BEGIN:VCALENDAR
VERSION:2.0
PRODID:-//northwestcoloradohealth.org//NONSGML kigkonsult.se iCalcreator 2.
 30.10//
CALSCALE:GREGORIAN
METHOD:PUBLISH
UID:4e8ae77d-c82b-4491-b4dd-df6f14d7250b
X-WR-CALDESC:Step into a night of purpose and style at the Sneaker Ball\, a
 n exclusive benefit for Northwest Colorado Health’s Home Health and Hospic
 e campaign. Join us for an evening where elegance meets effortless comfort
 \, all set against the breathtaking backdrop of the Yampa River. Enjoy exq
 uisite dining\, live music and dancing with Chamberlin Birch in Aurum's be
 autiful setting on the river. Tickets and sponsorship available at northwe
 stcoloradohealth.org/sneakerball
X-WR-RELCALID:bd95c662948bb8cad02d9ed7a87df9f7
X-WR-TIMEZONE:America/Denver
BEGIN:VTIMEZONE
TZID:America/Denver
BEGIN:STANDARD
TZNAME:MST
DTSTART:20251102T020000
TZOFFSETFROM:-0600
TZOFFSETTO:-0700
RDATE:20261101T020000
RDATE:20271107T020000
END:STANDARD
BEGIN:DAYLIGHT
TZNAME:MDT
DTSTART:20260308T020000
TZOFFSETFROM:-0700
TZOFFSETTO:-0600
RDATE:20270314T020000
END:DAYLIGHT
END:VTIMEZONE
BEGIN:VEVENT
UID:fca8bf4d-b442-4bc6-af62-751c1bf2c36d
DTSTAMP:20260420T151817Z
DESCRIPTION:Step into a night of purpose and style at the Sneaker Ball\, an
  exclusive benefit for Northwest Colorado Health’s Home Health and Hospice
  campaign. Join us for an evening where elegance meets effortless comfort\
 , all set against the breathtaking backdrop of the Yampa River. Enjoy exqu
 isite dining\, live music and dancing with Chamberlin Birch in Aurum's bea
 utiful setting on the river. Tickets and sponsorship available at northwes
 tcoloradohealth.org/sneakerball
DTSTART;TZID=America/Denver:20260528T170000
DTEND;TZID=America/Denver:20260528T210000
LOCATION:Aurum Food & Wine\, 811 Yampa St.\, Steamboat Springs\, CO 80487 U
 S
SUMMARY:Sneaker Ball for Home Health & Hospice
END:VEVENT
END:VCALENDAR
